BEGIN:VCALENDAR
VERSION:2.0
PRODID:icalendar-ruby
CALSCALE:GREGORIAN
METHOD:PUBLISH
BEGIN:VEVENT
DTSTAMP:20260422T093902Z
UID:9-1608056@cumberlandofmarshall.org
DTSTART:20260923T003000Z
DTEND:20260923T020000Z
CLASS:PUBLIC
CREATED:20260421T193550
DESCRIPTION:
LAST-MODIFIED:20260421T193550
LOCATION:
SUMMARY:Spanish Bible Study
URL;VALUE=URI:https://cumberlandofmarshall.org/events/spanish-bible-study/2
 026-09-22
END:VEVENT
END:VCALENDAR
