BEGIN:VCALENDAR
VERSION:2.0
PRODID:icalendar-ruby
CALSCALE:GREGORIAN
METHOD:PUBLISH
BEGIN:VEVENT
DTSTAMP:20260422T153546Z
UID:9-1610085@cumberlandofmarshall.org
DTSTART:20261021T003000Z
DTEND:20261021T020000Z
CLASS:PUBLIC
CREATED:20260422T093314
DESCRIPTION:
LAST-MODIFIED:20260422T093314
LOCATION:
SUMMARY:Spanish Bible Study
URL;VALUE=URI:https://cumberlandofmarshall.org/events/spanish-bible-study/2
 026-10-20
END:VEVENT
END:VCALENDAR
