BEGIN:VCALENDAR
VERSION:2.0
PRODID:icalendar-ruby
CALSCALE:GREGORIAN
METHOD:PUBLISH
BEGIN:VEVENT
DTSTAMP:20260422T183426Z
UID:9-1611100@cumberlandofmarshall.org
DTSTART:20261104T013000Z
DTEND:20261104T030000Z
CLASS:PUBLIC
CREATED:20260422T122839
DESCRIPTION:
LAST-MODIFIED:20260422T122839
LOCATION:
SUMMARY:Spanish Bible Study
URL;VALUE=URI:https://cumberlandofmarshall.org/events/spanish-bible-study/2
 026-11-03
END:VEVENT
END:VCALENDAR
